BEGIN:VCALENDAR
VERSION:2.0
PRODID:-//Africa Inland Mission (Europe) - ECPv6.15.20//NONSGML v1.0//EN
CALSCALE:GREGORIAN
METHOD:PUBLISH
X-ORIGINAL-URL:https://eu.aimint.org
X-WR-CALDESC:Events for Africa Inland Mission (Europe)
REFRESH-INTERVAL;VALUE=DURATION:PT1H
X-Robots-Tag:noindex
X-PUBLISHED-TTL:PT1H
BEGIN:VTIMEZONE
TZID:Europe/London
BEGIN:DAYLIGHT
TZOFFSETFROM:+0000
TZOFFSETTO:+0100
TZNAME:BST
DTSTART:20250330T010000
END:DAYLIGHT
BEGIN:STANDARD
TZOFFSETFROM:+0100
TZOFFSETTO:+0000
TZNAME:GMT
DTSTART:20251026T010000
END:STANDARD
BEGIN:DAYLIGHT
TZOFFSETFROM:+0000
TZOFFSETTO:+0100
TZNAME:BST
DTSTART:20260329T010000
END:DAYLIGHT
BEGIN:STANDARD
TZOFFSETFROM:+0100
TZOFFSETTO:+0000
TZNAME:GMT
DTSTART:20261025T010000
END:STANDARD
BEGIN:DAYLIGHT
TZOFFSETFROM:+0000
TZOFFSETTO:+0100
TZNAME:BST
DTSTART:20270328T010000
END:DAYLIGHT
BEGIN:STANDARD
TZOFFSETFROM:+0100
TZOFFSETTO:+0000
TZNAME:GMT
DTSTART:20271031T010000
END:STANDARD
END:VTIMEZONE
BEGIN:VEVENT
DTSTART;TZID=Europe/London:20260908T110000
DTEND;TZID=Europe/London:20260910T140000
DTSTAMP:20260421T202618
CREATED:20250115T115228Z
LAST-MODIFIED:20260211T120004Z
UID:100658-1788865200-1789048800@eu.aimint.org
SUMMARY:Autumn Conference 2026
DESCRIPTION:Join us for our Autumn Conference in September 2026. A great time of fellowship\, teaching and hearing about the amazing work God is doing among the unreached peoples of Africa.\n\nWhether you have been supporting AIM for years\, or just beginning to explore your place in mission we would love to have you join us between the 8 – 10 September at the King’s Park Conference Centre in Northampton.\n\nFrom: The 8th September at 11am\, until the 10th September at 2pm\nLocation: King’s Park Conference Centre\, Northampton\n\nBook here
URL:https://eu.aimint.org/event/autumn-conference-2026/
LOCATION:Kings Park Conference Centre\, Northampton\, Kings Park Rd\, Northampton\, NN3 6LL
ATTACH;FMTTYPE=image/png:https://eu.aimint.org/wp-content/uploads/2025/01/Autumn-Conference-Logo.png
END:VEVENT
END:VCALENDAR