BEGIN:VCALENDAR
VERSION:2.0
PRODID:-//Africa Inland Mission (Europe) - ECPv6.15.20//NONSGML v1.0//EN
CALSCALE:GREGORIAN
METHOD:PUBLISH
X-ORIGINAL-URL:https://eu.aimint.org
X-WR-CALDESC:Events for Africa Inland Mission (Europe)
REFRESH-INTERVAL;VALUE=DURATION:PT1H
X-Robots-Tag:noindex
X-PUBLISHED-TTL:PT1H
BEGIN:VTIMEZONE
TZID:Europe/London
BEGIN:DAYLIGHT
TZOFFSETFROM:+0000
TZOFFSETTO:+0100
TZNAME:BST
DTSTART:20250330T010000
END:DAYLIGHT
BEGIN:STANDARD
TZOFFSETFROM:+0100
TZOFFSETTO:+0000
TZNAME:GMT
DTSTART:20251026T010000
END:STANDARD
BEGIN:DAYLIGHT
TZOFFSETFROM:+0000
TZOFFSETTO:+0100
TZNAME:BST
DTSTART:20260329T010000
END:DAYLIGHT
BEGIN:STANDARD
TZOFFSETFROM:+0100
TZOFFSETTO:+0000
TZNAME:GMT
DTSTART:20261025T010000
END:STANDARD
BEGIN:DAYLIGHT
TZOFFSETFROM:+0000
TZOFFSETTO:+0100
TZNAME:BST
DTSTART:20270328T010000
END:DAYLIGHT
BEGIN:STANDARD
TZOFFSETFROM:+0100
TZOFFSETTO:+0000
TZNAME:GMT
DTSTART:20271031T010000
END:STANDARD
END:VTIMEZONE
BEGIN:VEVENT
DTSTART;TZID=Europe/London:20260808T080000
DTEND;TZID=Europe/London:20260815T170000
DTSTAMP:20260421T134232
CREATED:20260408T131119Z
LAST-MODIFIED:20260408T131123Z
UID:111721-1786176000-1786813200@eu.aimint.org
SUMMARY:Aber Conference - EMW
DESCRIPTION:Join us at the Evangelical Movement of Wales’s Aber Conference in Aberystwyth.
URL:https://eu.aimint.org/event/aber-conference-emw/
ATTACH;FMTTYPE=image/jpeg:https://eu.aimint.org/wp-content/uploads/2026/04/Aber-2026.jpg
END:VEVENT
END:VCALENDAR